BEGIN:VCALENDAR
VERSION:2.0
PRODID:-//Restaurant Schloss Oberhofen//NONSGML kigkonsult.se iCalcreator 2
 .16.12//
METHOD:PUBLISH
X-MS-OLK-FORCEINSPECTOROPEN:TRUE
BEGIN:VEVENT
UID:20260423T182524CEST-4563lDNooJ@Restaurant Schloss Oberhofen
DTSTAMP:20260423T162524Z
DESCRIPTION:Viele Märchen und Sagen berichten von schauerlichen Ereignissen
  in Schlössern und verlassenen Häusern. Gemeinsam tauchen wir ein in gespe
 nstische Geschichten und erkunden im Licht der Taschenlampen verborgene Wi
 nkel und Nischen des nächtlichen Schlosses. Umrahmt wird der Rundgang von 
 einer geisterhaften Schlemmerei im Restaurant. \n\nProgramm:\n18 Uhr: Vors
 peise und Hauptgang\n20 Uhr: Geistergeschichten im Schloss\n21.10 Uhr: Des
 sert\n\nKosten: CHF 75.– inkl. 3-Gang-Menü mit Aperitif und Geistergeschic
 hten\n
DTSTART:20221029T180000
DTEND:20221029T230000
ORGANIZER:MAILTO:Restaurant Schloss Oberhofen <info@restaurant-schlossoberh
 ofen.ch>
SUMMARY:Geistergeschichten im Schloss
END:VEVENT
END:VCALENDAR
