BEGIN:VCALENDAR
VERSION:2.0
PRODID:-//Restaurant Schloss Oberhofen//NONSGML kigkonsult.se iCalcreator 2
 .16.12//
METHOD:PUBLISH
X-MS-OLK-FORCEINSPECTOROPEN:TRUE
BEGIN:VEVENT
UID:20260423T183239CEST-2845lCEv9b@Restaurant Schloss Oberhofen
DTSTAMP:20260423T163239Z
DESCRIPTION:VORWEIHNACHTLICHES TREIBEN MIT MINI-MÄRIT\, HEISSEN DRINKS UND 
 KLEINEN LECKEREIEN\n\nAn den Adventswochendenden beleben drei kleine Märit
 stände\, an denen regionale Aussteller ihr Kunsthandwerk ausstellen und ve
 rkaufen\, die Restaurantterrasse. Besuchen Sie den kleinen Adventsmärit un
 d geniessen Sie unsere warmen Herzgetränke bei vorweihnachtlicher Stimmung
  am Schloss.\n\nAm 1. | 2. | 3. Advent\, jeweils  Samstag / Sonntag von 11
 :00 - 18:00 Uhr \nAdventssonntage mit Live Musik ab 19:00Uhr\n
DTSTART:20241130T110000
DTEND:20241130T180000
ORGANIZER:MAILTO:Restaurant Schloss Oberhofen <info@restaurant-schlossoberh
 ofen.ch>
SUMMARY:ADVENTS-WOCHENENDE MIT MINI-MÄRIT
END:VEVENT
END:VCALENDAR
