BEGIN:VCALENDAR
VERSION:2.0
PRODID:-//Restaurant Schloss Oberhofen//NONSGML kigkonsult.se iCalcreator 2
 .16.12//
METHOD:PUBLISH
X-MS-OLK-FORCEINSPECTOROPEN:TRUE
BEGIN:VEVENT
UID:20260423T183029CEST-7858CLSI7D@Restaurant Schloss Oberhofen
DTSTAMP:20260423T163029Z
DESCRIPTION:ADVENTSDINNER mit DEM A-Capella-Quartett AmuseBouche\n\nAdvent 
 im Restaurant Schloss Oberhofen\nGeniessen Sie die besinnliche Adventszeit
  bei uns am Thunersee. An den Adventswochenenden (1.\, 2.\,3. und 4. Adven
 t) erwartet Sie samstags und sonntags von 11:00 - 18:00 Uhr ein festliches
  Erlebnis in unserem stilvollen Ambiente.\n\nAm 1. Dezember laden wir Sie 
 um 19:00 Uhr zu einem besonderen musikalischen Highlight ein:\nDas Berner 
 Oberländer A-Capella-Quartett AmuseBouche verzaubert den Abend mit ihren h
 armonischen Klängen. \nLassen Sie sich von ihren Stimmen in weihnachtliche
  Stimmung versetzen und geniessen Sie einen unvergesslichen Abend bei uns 
 und buchen Sie heute schon Ihren Tisch!\n\n\n
DTSTART:20241201T190000
DTEND:20241201T220000
ORGANIZER:MAILTO:Restaurant Schloss Oberhofen <info@restaurant-schlossoberh
 ofen.ch>
SUMMARY:ADVENTSDINNER MIT DEM A-CAPELLA-QUARTETT AMUSEBOUCHE
END:VEVENT
END:VCALENDAR
