BEGIN:VCALENDAR
VERSION:2.0
PRODID:-//Restaurant Schloss Oberhofen//NONSGML kigkonsult.se iCalcreator 2
 .16.12//
METHOD:PUBLISH
X-MS-OLK-FORCEINSPECTOROPEN:TRUE
BEGIN:VEVENT
UID:20260423T182810CEST-02379JbXhT@Restaurant Schloss Oberhofen
DTSTAMP:20260423T162810Z
DESCRIPTION:VORWEIHNACHTLICHES TREIBEN MIT MINI-MÄRIT\, HEISSEN DRINKS UND 
 KLEINEN LECKEREIEN\nAn den Adventssonntagen beleben drei kleine Märitständ
 e\, an denen regionale Aussteller ihr Kunsthandwerk ausstellen und verkauf
 en\, die Restaurantterrasse. Besuchen Sie den kleinen Adventsmärit und gen
 iessen Sie unsere warmen Herzgetränke bei vorweihnachtlicher Stimmung am S
 chloss. \n
DTSTART:20221211T140000
DTEND:20221211T180000
ORGANIZER:MAILTO:Restaurant Schloss Oberhofen <info@restaurant-schlossoberh
 ofen.ch>
SUMMARY:ADVENTSSONNTAG AM SCHLOSS 
END:VEVENT
END:VCALENDAR
