BEGIN:VCALENDAR
VERSION:2.0
PRODID:-//Restaurant Schloss Oberhofen//NONSGML kigkonsult.se iCalcreator 2
 .16.12//
METHOD:PUBLISH
X-MS-OLK-FORCEINSPECTOROPEN:TRUE
BEGIN:VEVENT
UID:20260423T182643CEST-7228wOODLz@Restaurant Schloss Oberhofen
DTSTAMP:20260423T162643Z
DESCRIPTION:VORWEIHNACHTLICHES TREIBEN MIT MINI-MÄRIT\, HEISSEN DRINKS UND 
 KLEINEN LECKEREIEN\nAuch am 4. Adventssonntag beleben drei kleine Märitstä
 nde\, an denen regionale Aussteller ihr Kunsthandwerk ausstellen und verka
 ufen\, die Restaurantterrasse. Besuchen Sie den kleinen Adventsmärit und g
 eniessen Sie unsere warmen Herzgetränke bei vorweihnachtlicher Stimmung am
  Schloss.\n
DTSTART:20221218T140000
DTEND:20221218T180000
ORGANIZER:MAILTO:Restaurant Schloss Oberhofen <info@restaurant-schlossoberh
 ofen.ch>
SUMMARY:ADVENTSSONNTAG AM SCHLOSS 
END:VEVENT
END:VCALENDAR
