BEGIN:VCALENDAR
VERSION:2.0
PRODID:-//Restaurant Schloss Oberhofen//NONSGML kigkonsult.se iCalcreator 2
 .16.12//
METHOD:PUBLISH
X-MS-OLK-FORCEINSPECTOROPEN:TRUE
BEGIN:VEVENT
UID:20260423T183017CEST-4811u7T7Bu@Restaurant Schloss Oberhofen
DTSTAMP:20260423T163017Z
DESCRIPTION:Aperitif auf der Terrasse oder direkt am Tisch\, anschliessend 
 exquisites \n4-Gang-Menü im Restaurant bei weihnachtlicher Stimmung\n\nMus
 ikalisch begleitet vom Pianist Moody Rassouli\n\nMoody ist ein musikalisch
 es Naturtalent\, das schon als Kind im 10. Lebensjahr das Klavier entdeckt
  hat und beachtliche Fertigkeiten als junger Pianist entwickelte. In der s
 chweizerischen Bar- und Hotel-Piano-Szene ist er seit langem kein Unbekann
 ter mehr. \n\nCHF 95.00\n
DTSTART:20231203T183000
DTEND:20231203T220000
ORGANIZER:MAILTO:Restaurant Schloss Oberhofen <info@restaurant-schlossoberh
 ofen.ch>
SUMMARY:ADVENTSDINNER BEGLEITET VON PIANO MUSIK
END:VEVENT
END:VCALENDAR
