BEGIN:VCALENDAR
VERSION:2.0
PRODID:-//Restaurant Schloss Oberhofen//NONSGML kigkonsult.se iCalcreator 2
 .16.12//
METHOD:PUBLISH
X-MS-OLK-FORCEINSPECTOROPEN:TRUE
BEGIN:VEVENT
UID:20260423T182649CEST-6631uf640v@Restaurant Schloss Oberhofen
DTSTAMP:20260423T162649Z
DESCRIPTION:LASSEN SIE SICH AM 2. ADVENT BEI FESTLICHER ATMOSPHäRE MIT MUSI
 K UND EINER KULINARISCHEN ÜBERRASCHUNG VERWÖHNEN!\n\n\nDie ersten Kalender
 törli sind bereits geöffnet\, der 2. Advent naht. Gerne empfangen wir Sie 
 bei dieser Gelegenheit zu unserem nächsten Adventsdinner mit einzigartiger
  musikalischer Begleitung. Das Duo Espressione mit Inna Angelova am Klavie
 r und Daniela Topuleva (Querflöte) verzaubert mit Charme und einem umfangr
 eichen Repertoire und umrahmt das exquisite 4-Gang-Menü mit weihnachtliche
 r Stimmung. Im Vorherein geniessen Sie ein genüssliches Aperitif auf der f
 estlichen Restaurantterrasse oder direkt in der warmen Stube am Tisch.\n\n
 CHF: 95.– inkl. Aperitif\n
DTSTART:20221204T183000
DTEND:20221204T000000
ORGANIZER:MAILTO:Restaurant Schloss Oberhofen <info@restaurant-schlossoberh
 ofen.ch>
SUMMARY:ADVENTSDINNER IN WEIHNACHTLICHEM AMBIENTE
END:VEVENT
END:VCALENDAR
