BEGIN:VCALENDAR
VERSION:2.0
PRODID:-//Restaurant Schloss Oberhofen//NONSGML kigkonsult.se iCalcreator 2
 .16.12//
METHOD:PUBLISH
X-MS-OLK-FORCEINSPECTOROPEN:TRUE
BEGIN:VEVENT
UID:20260423T182717CEST-26790kbN3u@Restaurant Schloss Oberhofen
DTSTAMP:20260423T162717Z
DESCRIPTION:Aperitif auf der Terrasse oder direkt am Tisch\, anschliessend 
 exquisites 4-Gang-Menü im Restaurant bei weihnachtlicher Stimmung.\n\nCHF:
  95.– inkl. Aperitif\n
DTSTART:20221211T183000
DTEND:20221211T000000
ORGANIZER:MAILTO:Restaurant Schloss Oberhofen <info@restaurant-schlossoberh
 ofen.ch>
SUMMARY:ADVENTSDINNER IN WEIHNACHTLICHEM AMBIENTE
END:VEVENT
END:VCALENDAR
