BEGIN:VCALENDAR
VERSION:2.0
PRODID:-//Restaurant Schloss Oberhofen//NONSGML kigkonsult.se iCalcreator 2
 .16.12//
METHOD:PUBLISH
X-MS-OLK-FORCEINSPECTOROPEN:TRUE
BEGIN:VEVENT
UID:20260423T183141CEST-3228VKVkrD@Restaurant Schloss Oberhofen
DTSTAMP:20260423T163141Z
DESCRIPTION:Erleben Sie ein aussergewöhnliches Abendessen bei Vollmond und 
 Kerzenlicht im Restaurant Schloss Oberhofen direkt am Thunersee\n\n\nGenie
 ssen Sie ein Candle-Light-Diner der ganz besonderen Art!\n\nDie Aussicht k
 önnte nicht grandioser sein\, der Anblick der schneebedeckten Berge im Mon
 dlicht\, die Lichter am anderen Seeufer\, der Blick auf das majestätische 
 Schloss und das Mondlicht schimmernd auf dem Thunersee ist einfach atember
 aubend – und das während dem ganzen Dinner!\n\nSo kann der Alltag hinter s
 ich gelassen und das exquisite Vollmond 5-Gang Dinner im genossen werden.
 \n\nProgramm:\n19.15 Uhr: Moonlight Diner im Restaurant\nAperitif auf der 
 Terrasse oder am Tisch\nPreis: CHF 79.00\n\n\nOptional können Sie das Aben
 dessen mit einem poetischen Rundgang durch den Schlosspark verbinden:\n\nM
 ystisch\, märchenhaft\, romantisch – der Mond fasziniert und inspiriert. B
 ei Vollmond lernen wir den Schlosspark von einer anderen Seite kennen und 
 verbinden die Erlebnisse mit poetischen Inhalten\, die den Erdtrabanten in
 s Zentrum stellen. Besammelt an der Feuerschale\, entführen wir Sie im Ans
 chluss in die Welt der Geschichten und Gedichte rund um den Mond.\n\nProgr
 amm mit Rundgang:\n18.00 Uhr: Poetischer Rundgang durch den Schlosspark\n1
 9.15 Uhr: Moonlight Diner im Restaurant\nAperitif auf der Terrasse oder am
  Tisch\nPreis: CHF 95.00\n
DTSTART:20221208T173000
DTEND:20221208T000000
ORGANIZER:MAILTO:Restaurant Schloss Oberhofen <info@restaurant-schlossoberh
 ofen.ch>
SUMMARY:MOONLIGHT DINER 
END:VEVENT
END:VCALENDAR
