BEGIN:VCALENDAR
VERSION:2.0
PRODID:-//Restaurant Schloss Oberhofen//NONSGML kigkonsult.se iCalcreator 2
 .16.12//
METHOD:PUBLISH
X-MS-OLK-FORCEINSPECTOROPEN:TRUE
BEGIN:VEVENT
UID:20260423T182417CEST-3410Z5S9Mc@Restaurant Schloss Oberhofen
DTSTAMP:20260423T162417Z
DESCRIPTION:mit festlichem gala-dinner ins neue jahr 2025\n\nFeiern Sie Sil
 vester 2024 im Restaurant Schloss Oberhofen!\n\nUnser exklusives 6-Gang Ga
 la Menü erwartet Sie\, um Ihr Jahr gebührend abzuschliessen. Geniessen Sie
  eine kulinarische Reise\, die Ihre Sinne verzaubert\, begleitet von einer
  unvergesslichen musikalischen Unterhaltung\, präsentiert vom Pianisten Mo
 ody Rassouli.\n \nReservieren Sie heute noch Ihren Tisch\n\nNur CHF 140.- 
 pro Person inklusive Aperitif ab 19:00\n
DTSTART:20241231T190000
DTEND:20250101T020000
ORGANIZER:MAILTO:Restaurant Schloss Oberhofen <info@restaurant-schlossoberh
 ofen.ch>
SUMMARY:SILVESTER NIGHT MIT LIVE MUSIK
END:VEVENT
END:VCALENDAR
