BEGIN:VCALENDAR
VERSION:2.0
PRODID:-//Restaurant Schloss Oberhofen//NONSGML kigkonsult.se iCalcreator 2
 .16.12//
METHOD:PUBLISH
X-MS-OLK-FORCEINSPECTOROPEN:TRUE
BEGIN:VEVENT
UID:20260423T170807CEST-8629A3EfO0@Restaurant Schloss Oberhofen
DTSTAMP:20260423T150807Z
DESCRIPTION:Weihnacht liegt in der luft – geniessen Sie ein festliches Aben
 dessen direkt am Thunersee\n\n\n\n\nIn Ruhe Weihnachten feiern\, ohne Hekt
 ik und vielen Vorbereitungen? Oder möchten Sie einfach nicht ganz allein z
 uhause bleiben? Wir verwöhnen Sie von Herzen mit einem feierlichen 4-Gang-
 Menü in traumhaften\, weihnachtlichen Ambiente. \nDie Aussicht könnte nich
 t grandioser sein\; der Anblick der schneebedeckten Berge\, die Beleuchtun
 g am anderen Seeufer\, der Blick auf das majestätische Schloss und die Lic
 hter der Weihnachtszeit schimmernd auf dem Thunersee ist einfach atemberau
 bend – und das während dem ganzen Dinner!\n\n4-Gang Menü für CHF 85.- oder
  à la carte\n
DTSTART:20251224T180000
DTEND:20251224T230000
ORGANIZER:MAILTO:Restaurant Schloss Oberhofen <info@restaurant-schlossoberh
 ofen.ch>
SUMMARY:HEILIG ABEND 
END:VEVENT
END:VCALENDAR
