BEGIN:VCALENDAR
VERSION:2.0
PRODID:-//Restaurant Schloss Oberhofen//NONSGML kigkonsult.se iCalcreator 2
 .16.12//
METHOD:PUBLISH
X-MS-OLK-FORCEINSPECTOROPEN:TRUE
BEGIN:VEVENT
UID:20260423T170813CEST-3704UTw3F8@Restaurant Schloss Oberhofen
DTSTAMP:20260423T150813Z
DESCRIPTION:14. Februar ist Valentinstag! Erleben Sie Romantik pur im Resta
 urant Schloss OBerHofen!\n\nDie Tradition des Valentinstags\, die wir im S
 ALZANO in Interlaken-Unterseen seit 31 Jahren pflegen\, feiern wir nun auc
 h im Restaurant Schloss Oberhofen. Lassen Sie sich von einem Ambiente verz
 aubern\, das von Kerzenschein und einem Meer von Rosen geprägt ist – alles
  mit viel Liebe zum Detail dekoriert.\n\nGeniessen Sie ein aphrodisierende
 s 6-Gang-Romantikmenü\, das Ihre Sinne verführt und Ihre Liebe zueinander 
 zelebriert. Mit Hingabe und Leidenschaft bieten wir Ihnen einen Abend\, de
 r Ihre Herzen höherschlagen lässt.\n\nFeiern Sie den Valentinstag in einem
  einzigartigen Rahmen und erleben Sie unvergessliche Momente.\n\nPreis: 6-
 Gang Romantikmenu CHF 109.00 inklusive Aperitif \n\nReservieren Sie noch h
 eute Ihren Tisch für den romantischsten Abend des Jahres!\n
DTSTART:20260214T190000
DTEND:20260214T233000
ORGANIZER:MAILTO:Restaurant Schloss Oberhofen <info@restaurant-schlossoberh
 ofen.ch>
SUMMARY:LOVE IS IN THE AIR – ROMANTIK-DINNER ZUM VALENTINSTAG 
END:VEVENT
END:VCALENDAR
