BEGIN:VCALENDAR
VERSION:2.0
PRODID:-//Restaurant Schloss Oberhofen//NONSGML kigkonsult.se iCalcreator 2
 .16.12//
METHOD:PUBLISH
X-MS-OLK-FORCEINSPECTOROPEN:TRUE
BEGIN:VEVENT
UID:20260423T182417CEST-3410DoStgM@Restaurant Schloss Oberhofen
DTSTAMP:20260423T162417Z
DESCRIPTION:Erleben Sie ein aussergewöhnliches Abendessen bei Vollmond und 
 Kerzenlicht im Restaurant Schloss Oberhofen direkt am Thunersee\n\nGeniess
 en Sie ein Candle-Light-Diner der ganz besonderen Art!\n\nDie Aussicht kön
 nte nicht grandioser sein: Der Anblick der schneebedeckten Berge im sanfte
 n Mondlicht\, die glitzernenden Lichter am gegenüberliegenden Seeufer\, de
 r Blick auf das majestätische Schloss und das Mondlicht schimmernd auf dem
  Thunersee ist einfach atemberaubend – und das während dem ganzen Dinner! 
 \n\nReservieren Sie jetzt Ihren Tisch für dieses romantische Highlight.\n
 \nBei schönem Wetter servieren wird Ihnen den Aperitif gerne auf unserer s
 timmungsvollen Terrasse!\nPreis: CHF 85.00 pro Person (ohne Aperitif)\n
DTSTART:20250212T183000
DTEND:20250212T230000
ORGANIZER:MAILTO:Restaurant Schloss Oberhofen <info@restaurant-schlossoberh
 ofen.ch>
SUMMARY:VOLLMOND DINNER – FULL MOON DINNER
END:VEVENT
END:VCALENDAR
