BEGIN:VCALENDAR
VERSION:2.0
PRODID:-//Restaurant Schloss Oberhofen//NONSGML kigkonsult.se iCalcreator 2
 .16.12//
METHOD:PUBLISH
X-MS-OLK-FORCEINSPECTOROPEN:TRUE
BEGIN:VEVENT
UID:20260423T182504CEST-3713cjCV3g@Restaurant Schloss Oberhofen
DTSTAMP:20260423T162504Z
DESCRIPTION:Erleben Sie ein aussergewöhnliches Abendessen bei Vollmond und 
 Kerzenlicht im Restaurant Schloss Oberhofen direkt am Thunersee\n\n\nGenie
 ssen Sie ein Candle-Light-Diner der ganz besonderen Art!\n\nDie Aussicht k
 önnte nicht grandioser sein\, der Anblick der schneebedeckten Berge im Mon
 dlicht\, die Lichter am anderen Seeufer\, der Blick auf das majestätische 
 Schloss und das Mondlicht schimmernd auf dem Thunersee ist einfach atember
 aubend – und das während dem ganzen Dinner!\n\nSo kann der Alltag hinter s
 ich gelassen und das exquisite Vollmond Dinner genossen werden.\n\nProgram
 m:\nab 18:30 Uhr: Moonlight Diner 4-Gang Menü im Restaurant\nAperitif auf 
 der Terrasse oder am Tisch\nPreis: CHF 85.00 (ohne Aperitif)\n
DTSTART:20230505T190000
DTEND:20230505T220000
ORGANIZER:MAILTO:Restaurant Schloss Oberhofen <info@restaurant-schlossoberh
 ofen.ch>
SUMMARY:MOONLIGHT DINER 
END:VEVENT
END:VCALENDAR
