BEGIN:VCALENDAR
VERSION:2.0
PRODID:-//Restaurant Schloss Oberhofen//NONSGML kigkonsult.se iCalcreator 2
 .16.12//
METHOD:PUBLISH
X-MS-OLK-FORCEINSPECTOROPEN:TRUE
BEGIN:VEVENT
UID:20260423T182915CEST-8937l3Lg2v@Restaurant Schloss Oberhofen
DTSTAMP:20260423T162915Z
DESCRIPTION:Erleben Sie ein aussergewöhnliches Abendessen bei Vollmond und 
 Kerzenlicht im Restaurant Schloss Oberhofen direkt am Thunersee\n\nGeniess
 en Sie ein Candle-Light-Dinner der ganz besonderen Art!\n\nDie Aussicht kö
 nnte nicht grandioser sein: Der Anblick der schneebedeckten Berge im sanft
 en Mondlicht\, die glitzernenden Lichter am gegenüberliegenden Seeufer\, d
 er Blick auf das majestätische Schloss und das Mondlicht schimmernd auf de
 m Thunersee ist einfach atemberaubend – und das während dem ganzen Dinner!
  \n\nReservieren Sie jetzt Ihren Tisch für dieses romantische Highlight.\n
 \nBei schönem Wetter servieren wird Ihnen den Aperitif gerne auf unserer s
 timmungsvollen Terrasse!\nPreis: CHF 85.00 pro Person (ohne Aperitif)\n
DTSTART:20250314T183000
DTEND:20250314T230000
ORGANIZER:MAILTO:Restaurant Schloss Oberhofen <info@restaurant-schlossoberh
 ofen.ch>
SUMMARY:VOLLMOND DINNER – FULL MOON DINNER
END:VEVENT
END:VCALENDAR
