BEGIN:VCALENDAR
VERSION:2.0
PRODID:-//Restaurant Schloss Oberhofen//NONSGML kigkonsult.se iCalcreator 2
 .16.12//
METHOD:PUBLISH
X-MS-OLK-FORCEINSPECTOROPEN:TRUE
BEGIN:VEVENT
UID:20260423T183017CEST-7342VcJGuR@Restaurant Schloss Oberhofen
DTSTAMP:20260423T163017Z
DESCRIPTION:Erleben Sie ein aussergewöhnliches Abendessen bei Vollmond und 
 Kerzenlicht im Restaurant Schloss Oberhofen direkt am Thunersee\n\n\nGenie
 ssen Sie ein Candle-Light-Dinner der ganz besonderen Art!\n\nDie Aussicht 
 könnte nicht grandioser sein\, der Anblick der schneebedeckten Berge im Mo
 ndlicht\, die Lichter am anderen Seeufer\, der Blick auf das majestätische
  Schloss und das Mondlicht schimmernd auf dem Thunersee ist einfach atembe
 raubend – und das während dem ganzen Dinner!\n\nSo kann der Alltag hinter 
 sich gelassen und das exquisite Vollmond Dinner genossen werden.\n\nAbende
 ssen: ab 18:30 Uhr\, Moonlight Dinner 4-Gang-Menü im Restaurant\nPreis: CH
 F 85.-\n\n\nOptional mit Park Rundgang bei Vollmond verbinden:\n\nSpazierg
 ang durch den Schlosspark im Schein des Vollmondes mit der Gärtnerin Sonja
  Zimmermann. Im Anschluss entführt Sie Christina Fankhauser in die Welt de
 r Geschichten und Gedichte rund um den Mond.\n\nMystisch\, märchenhaft\, r
 omantisch – der Mond fasziniert und inspiriert.\nBei Vollmond lernen wir d
 en Schlosspark von einer anderen Seite kennen und verbinden die Erlebnisse
  mit poetischen Inhalten\, die den Erdtrabanten ins Zentrum stellen. Besam
 melt an der Feuerschale\, entführen wir Sie im Anschluss in die Welt der G
 eschichten und Gedichte rund um den Mond.\n\nProgramm mit Rundgang:\n18:30
  Uhr: Poetischer Rundgang durch den Schlosspark\nanschliessend: Moonlight 
 Dinner im Restaurant\n\nPreis: CHF 99.-\n
DTSTART:20231128T183000
DTEND:20231128T230000
ORGANIZER:MAILTO:Restaurant Schloss Oberhofen <info@restaurant-schlossoberh
 ofen.ch>
SUMMARY:MOONLIGHT DINNER – MIT RUNDGANG DURCH DEN PARK
END:VEVENT
END:VCALENDAR
