BEGIN:VCALENDAR
VERSION:2.0
PRODID:-//Restaurant Schloss Oberhofen//NONSGML kigkonsult.se iCalcreator 2
 .16.12//
METHOD:PUBLISH
X-MS-OLK-FORCEINSPECTOROPEN:TRUE
BEGIN:VEVENT
UID:20260423T182857CEST-1174o38VnU@Restaurant Schloss Oberhofen
DTSTAMP:20260423T162857Z
DESCRIPTION:Ihr BESONDERES OSTERVERGNÜNGEN MIT FREUNDEN UND FAMILIE BEI EIN
 EM FESTLICHEN OSTERBRUNCH\n\n\nAb 11 Uhr erwarten Sie kulinarische Leckere
 ien\, auch für unsere kleinen «Naschhasen» gibt es süsse Überraschungen.\n
 \nReichhaltiger Brunch mit vielen kalten und warmen Köstlichkeiten wie z. 
 B. Fleisch- und Käsespezialitäten\, hausgemachte Konfi\, Eierspeisen\, ein
 e Dessertauswahl und vieles mehr. Kaffee\, Tee und warme Schoggi inklusive
 . \n\nPreis pro Person: CHF 69.00\n(Kinder und Jugendliche 11 – 14 Jahre: 
 CHF 30.00 | Kinder 6 – 10 Jahre: CHF 20.00)\n\n_\n\nAbends à la Carte \n
DTSTART:20240331T110000
DTEND:20240331T170000
ORGANIZER:MAILTO:Restaurant Schloss Oberhofen <info@restaurant-schlossoberh
 ofen.ch>
SUMMARY:OSTERBRUNCH
END:VEVENT
END:VCALENDAR
