BEGIN:VCALENDAR
VERSION:2.0
PRODID:-//Restaurant Schloss Oberhofen//NONSGML kigkonsult.se iCalcreator 2
 .16.12//
METHOD:PUBLISH
X-MS-OLK-FORCEINSPECTOROPEN:TRUE
BEGIN:VEVENT
UID:20260423T183124CEST-4740ev3xxU@Restaurant Schloss Oberhofen
DTSTAMP:20260423T163124Z
DESCRIPTION:VORWEIHNACHTLICHES TREIBEN MIT MINI-MÄRIT\, HEISSEN DRINKS UND 
 KLEINEN LECKEREIEN\n\n\nAn den Adventssonntagen beleben drei kleine Märits
 tände\, an denen regionale Aussteller ihr Kunsthandwerk ausstellen und ver
 kaufen\, die Restaurantterrasse. Besuchen Sie den kleinen Adventsmärit und
  geniessen Sie unsere warmen Herzgetränke bei vorweihnachtlicher Stimmung 
 am Schloss. \n
DTSTART:20231224T140000
DTEND:20231224T180000
ORGANIZER:MAILTO:Restaurant Schloss Oberhofen <info@restaurant-schlossoberh
 ofen.ch>
SUMMARY:4. ADVENTSSONNTAG AM SCHLOSS 
END:VEVENT
END:VCALENDAR
