BEGIN:VCALENDAR
VERSION:2.0
PRODID:-//Restaurant Schloss Oberhofen//NONSGML kigkonsult.se iCalcreator 2
 .16.12//
METHOD:PUBLISH
X-MS-OLK-FORCEINSPECTOROPEN:TRUE
BEGIN:VEVENT
UID:20260423T182730CEST-7221kHFDuC@Restaurant Schloss Oberhofen
DTSTAMP:20260423T162730Z
DESCRIPTION:Aperitif auf der Terrasse oder direkt am Tisch\, anschliessend 
 exquisites \n4-Gang-Menü im Restaurant im  weihnachtlichen Ambiente. \n\nM
 usikalisch begleitet vom Duo Jazz-Enjoy\nMartin Blater & Fritz Roth\nZwei 
 Musiker mit Leidenschaft und jahrzehntelanger Erfahrung in fast allen Genr
 es.\n\nCHF: 95.00\n
DTSTART:20231217T183000
DTEND:20231217T220000
ORGANIZER:MAILTO:Restaurant Schloss Oberhofen <info@restaurant-schlossoberh
 ofen.ch>
SUMMARY:ADVENTSDINNER BEGLEITET VON JAZZ MUSIK
END:VEVENT
END:VCALENDAR
