BEGIN:VCALENDAR
VERSION:2.0
PRODID:-//Restaurant Schloss Oberhofen//NONSGML kigkonsult.se iCalcreator 2
 .16.12//
METHOD:PUBLISH
X-MS-OLK-FORCEINSPECTOROPEN:TRUE
BEGIN:VEVENT
UID:20260423T182511CEST-0266kJOR3P@Restaurant Schloss Oberhofen
DTSTAMP:20260423T162511Z
DESCRIPTION:bei sommerlichen temperaturen den nationalfeiertag feiern – see
 sicht und abkühlung garantiert \n\n\nInmitten historischer Kulisse empfang
 en wir Sie\, um gemeinsam am Abend des 1. August in Ferienstimmung mit ein
 em Sommerdrink anstossen und dabei die Aussicht über den schönen Thunersee
  zu geniessen.\n\nGönnen Sie sich nach dem sinnlichen 3-/4-Gang-Menü einen
  Spaziergang durch den mit Fackeln beleuchteten Schlosspark und die Wichte
 rheerpromenade\, nach dem Eindunkeln lassen sich wunderbar die Feuerwerke 
 um und auf dem See beobachten. Mit etwas Glück kann man in den Bergen viel
 leicht sogar das eine und andere Höhenfeuer entdecken. \n
DTSTART:20250801T190000
DTEND:20250801T220000
ORGANIZER:MAILTO:Restaurant Schloss Oberhofen <info@restaurant-schlossoberh
 ofen.ch>
SUMMARY:1. AUGUST AM SEE
END:VEVENT
END:VCALENDAR
