BEGIN:VCALENDAR
VERSION:2.0
PRODID:-//Restaurant Schloss Oberhofen//NONSGML kigkonsult.se iCalcreator 2
 .16.12//
METHOD:PUBLISH
X-MS-OLK-FORCEINSPECTOROPEN:TRUE
BEGIN:VEVENT
UID:20260423T182834CEST-3029w19m4A@Restaurant Schloss Oberhofen
DTSTAMP:20260423T162834Z
DESCRIPTION:LASST UNS GEMEINSAM FEIERN – MUTTERTAG & SAISONERÖFFNUNG SCHLOS
 S OBERHOFEN!\n\n\nWas ein Feiertag\, für unsere Mütter als auch für das Mu
 seum Schloss Oberhofen\, welches heute in die neue Saison starten wird. Wi
 r sind dabei und freuen uns\, mit einem vielfältigen Angebot für Sie da zu
  sein!\n\nAngebote:\n\n\n	Muttertagsmenü im Restaurant\, für dich und deine
  Familie\n	Take Away für den kleinen Hunger\, mit Bratwurst\, Focaccia\, Fr
 üchtekuchen u.v.m.\n	Kinderecke\, ein Paradies für unsere kleinen Gäste\n	In
 fostand mit tollen News aus erster Hand\n\n
DTSTART:20230514T100000
DTEND:20230514T170000
ORGANIZER:MAILTO:Restaurant Schloss Oberhofen <info@restaurant-schlossoberh
 ofen.ch>
SUMMARY:HAPPY MOTHERS DAY
END:VEVENT
END:VCALENDAR
