BEGIN:VCALENDAR
VERSION:2.0
PRODID:-//Restaurant Schloss Oberhofen//NONSGML kigkonsult.se iCalcreator 2
 .16.12//
METHOD:PUBLISH
X-MS-OLK-FORCEINSPECTOROPEN:TRUE
BEGIN:VEVENT
UID:20260423T182557CEST-3720b3EVsL@Restaurant Schloss Oberhofen
DTSTAMP:20260423T162557Z
DESCRIPTION:Tauchen Sie ein in die leidenschaftliche Welt der spanischen We
 inkultur und genießen Sie einen unvergesslichen Abend voller Geschmacksexp
 losionen und herzlicher Gastfreundschaft. Am 9. November 2023 öffnen wir i
 m malerischen Restaurant Schloss Oberhofen die Tore zu einem einzigartigen
  kulinarischen Erlebnis\, das Sie nicht verpassen sollten.\n\nFür diesen b
 esonderen Abend haben wir uns mit der renommierten Weinexpertin Maria Sala
 manques zusammengetan\, um Ihnen eine Auswahl exquisiter spanischer Weine 
 aus dem Hause Avelino Vegas zu präsentieren. Maria Salamanques wird Ihnen 
 mit ihrem umfangreichen Fachwissen und ihrer Begeisterung für spanische We
 ine die Geschichten und Aromen hinter jedem Tropfen näherbringen.\n\nMenu
 \n\nApero: Bruschetta assortiert mit Tomaten\, Oliven oder Aubergine\nCirc
 e Verdejo Rueda DO\n\n1. Gang: Gebeizter Lachs mit Blinis & gepickeltem Ge
 müse\nNicte Rasado Castilla y Leon Vdt\n\n2. Gang: Tagliatelle mit Schwarz
 em Trüffel\nFuentespina Roble 7 meses Ribera del Duero DO\n\n3. Gang: Gesc
 hmortes Rinds Short Rib mit Bratkartoffeln & Saisongemüse\n100 Aniversario
  Tempranillo Avelino Vegas\n\n4. Gang: Regionale Käsevariation mit Früchte
 brot & Chutney\nFuentespina Reserva Ribera del Duero DO\n\n\nPreis Fr. 115
 .00 (inkl. Wein\, Mineralwasser & Kaffe)\n\nBitte reservieren Sie rechtzei
 tig\, da die Plätze begrenzt sind.\n\nSichern Sie sich Ihren Platz für die
 sen unvergesslichen Abend voller spanischer Weinspezialitäten. Wir freuen 
 uns darauf\, Sie und Ihre Begleitung willkommen zu heissen.\n
DTSTART:20231109T190000
DTEND:20231109T230000
ORGANIZER:MAILTO:Restaurant Schloss Oberhofen <info@restaurant-schlossoberh
 ofen.ch>
SUMMARY:WINE & DINE
END:VEVENT
END:VCALENDAR
