BEGIN:VCALENDAR
VERSION:2.0
PRODID:-//Restaurant Schloss Oberhofen//NONSGML kigkonsult.se iCalcreator 2
 .16.12//
METHOD:PUBLISH
X-MS-OLK-FORCEINSPECTOROPEN:TRUE
BEGIN:VEVENT
UID:20260423T183002CEST-1386G5Svwj@Restaurant Schloss Oberhofen
DTSTAMP:20260423T163002Z
DESCRIPTION:Austern schmecken wie ein Tag am Meer\, sind leicht und edel un
 d ein Genuss für GAumen und Augen. \n\n\n \n\nDie Geschichte der Austern\n
 Austern sind eine Familie von Muscheln\, die seit über 200 Millionen Jahre
 n existieren. Die ersten Menschen\, die Austern gegessen haben\, lebten am
  Roten Meer vor etwa 125.000 Jahren. Der Name „Auster“ kommt vom lateinisc
 hen ostrea oder vom griechischen ostreon\, \nwas „Muschel“ oder „Knochen“ 
 bedeutet. Austern wurden in verschiedenen Kulturen geschätzt\, aber auch a
 ls Essen für arme Leute angesehen. Die gezielte Austernzucht begann in Gri
 echenland im 4. Jahrhundert v. Chr.\, als man entdeckte\, dass sich Auster
 n an Tonscherben festsetzen. Heute gelten Austern als Luxusgut und werden 
 in vielen Ländern gezüchtet und verzehrt.\n\n \n\nAustern Creuse fine de C
 laire No 2 | Marennes\n\n14:00 - 19:00 Uhr\n
DTSTART:20240224T140000
DTEND:20240224T190000
ORGANIZER:MAILTO:Restaurant Schloss Oberhofen <info@restaurant-schlossoberh
 ofen.ch>
SUMMARY:CHAMPAGNER UND AUSTERN
END:VEVENT
END:VCALENDAR
