BEGIN:VCALENDAR
VERSION:2.0
PRODID:-//Restaurant Schloss Oberhofen//NONSGML kigkonsult.se iCalcreator 2
 .16.12//
METHOD:PUBLISH
X-MS-OLK-FORCEINSPECTOROPEN:TRUE
BEGIN:VEVENT
UID:20260423T182834CEST-0280GMvlmk@Restaurant Schloss Oberhofen
DTSTAMP:20260423T162834Z
DESCRIPTION:ADVENTSDINNER MIT NAËL HERREN \n\nAdvent im Restaurant Schloss 
 Oberhofen\nGeniessen Sie die besinnliche Adventszeit bei uns am Thunersee.
  An den Adventswochenenden (1.\, 2.\,3. und 4. Advent) erwartet Sie samsta
 gs und sonntags von 11:00 - 18:00 Uhr ein festliches Erlebnis in unserem s
 tilvollen Ambiente.\n\nZum 3. Advent am 8. Dezember laden wir Sie um 19:00
  Uhr zu einem besonderen musikalischen Highlight mit dem 15 jähtigen Piani
 st Naël Herren ein: \nLassen Sie sich in der zauberhaften Atmosphäre des A
 dvents von seiner Musik verzaubern!\n'Mit vielseitigen und mitreissenden K
 längen beherrsche ich die Tasten des Klaviers und kreiere unvergessliche M
 omente. Als 15 jähriger Pianist trete ich regelmässig bei verschiedenen Ve
 ranstaltungen auf und freue mich darauf\, meine Leidenschaft mit Ihnen zu 
 teilen.\nErleben Sie eine einzigartige Kombination aus zeitgenössischen un
 d klassischen Stilen – eine Harmonie aus kraftvollen und sanften Melodien.
 '\n\nKommen Sie vorbei und lassen Sie sich begeistern! Instagram: nael.09p
 iano\n\n\n
DTSTART:20241208T190000
DTEND:20241208T220000
ORGANIZER:MAILTO:Restaurant Schloss Oberhofen <info@restaurant-schlossoberh
 ofen.ch>
SUMMARY:ADVENTSDINNER MIT PIANIST NAËL HERREN 
END:VEVENT
END:VCALENDAR
