BEGIN:VCALENDAR
VERSION:2.0
PRODID:-//Restaurant Schloss Oberhofen//NONSGML kigkonsult.se iCalcreator 2
 .16.12//
METHOD:PUBLISH
X-MS-OLK-FORCEINSPECTOROPEN:TRUE
BEGIN:VEVENT
UID:20260423T183029CEST-78150mEJSa@Restaurant Schloss Oberhofen
DTSTAMP:20260423T163029Z
DESCRIPTION:ADVENTSDINNER MIT DEM DUO JAZZ ENJOY\n\nAm dritten Adventssonnt
 ag lädt das Duo Jazz-Enjoy zu einem festlichen Abend  voller Jazz-Highligh
 ts und nostalgischer Weltsongs ein. \nBegleiten Sie uns auf eine musikalis
 che Reise mit Klassikern von Frank Sinatra\, Dean Martin und Louis Prima –
  alles live und mit der einzigartigen Atmosphäre unseres weihnachtlich ges
 chmückten Restaurants Schloss Oberhofen.\n\nGeniessen Sie bei Kerzenschein
  und köstlichen Speisen einen Abend\, der Ihre Sinne berührt und weihnacht
 liche Vorfreude weckt.\n\nReservieren Sie rechtzeitig – wir freuen uns auf
  einen zauberhaften Adventsabend mit Ihnen!\n
DTSTART:20241215T190000
DTEND:20241215T220000
ORGANIZER:MAILTO:Restaurant Schloss Oberhofen <info@restaurant-schlossoberh
 ofen.ch>
SUMMARY:ADVENTSDINNER MIT DEM DUO JAZZ-ENJOY
END:VEVENT
END:VCALENDAR
