BEGIN:VCALENDAR
VERSION:2.0
PRODID:-//Restaurant Schloss Oberhofen//NONSGML kigkonsult.se iCalcreator 2
 .16.12//
METHOD:PUBLISH
X-MS-OLK-FORCEINSPECTOROPEN:TRUE
BEGIN:VEVENT
UID:20260423T182504CEST-6340Go3VWB@Restaurant Schloss Oberhofen
DTSTAMP:20260423T162504Z
DESCRIPTION:ADVENTSDINNER MIT  PIANIST MOODY RASSOULI\n\nZum vierten Advent
  verwöhnt uns der herausragende Pianist Moody Rassouli mit einer einzigart
 igen Mischung aus klassischem Spiel\, \nmeisterhafter Improvisation und mu
 sikalischem Feingefühl. \nBereits seit seinem 10. Lebensjahr am Klavier\, 
 begeistert er heute als echtes Multitalent und bringt Einflüsse aus Jazz\,
  Pop und Klassik \nauf unverwechselbare Weise zusammen. \nMit seinem Gespü
 r für stimmungsvolle und klangfarbige Arrangements schafft er eine festlic
 he Atmosphäre\, die Sie verzaubern wird.\n\nReservieren Sie rechtzeitig un
 d erleben Sie am letzten Adventssonntag ein musikalisches Highlight voller
  Eleganz und Virtuosität.\n\n\n
DTSTART:20241222T190000
DTEND:20241222T230000
ORGANIZER:MAILTO:Restaurant Schloss Oberhofen <info@restaurant-schlossoberh
 ofen.ch>
SUMMARY:ADVENTSDINNER MIT PIANIST MOODY RASSOULI
END:VEVENT
END:VCALENDAR
