BEGIN:VCALENDAR
VERSION:2.0
PRODID:-//Restaurant Schloss Oberhofen//NONSGML kigkonsult.se iCalcreator 2
 .16.12//
METHOD:PUBLISH
X-MS-OLK-FORCEINSPECTOROPEN:TRUE
BEGIN:VEVENT
UID:20260423T183156CEST-6656MZBcun@Restaurant Schloss Oberhofen
DTSTAMP:20260423T163156Z
DESCRIPTION:Erleben Sie einen beschwingten Abend mit dem Duo Jazz-Enjoy! Ma
 rtin Blatter & Fritz Roth Unterhalten Sie mit Evergreen Musik-Titel von Fr
 ank Sinatra\, Dean Martin\, Fats Domino und vielen mehr. M\;it jahrzehntel
 anger Erfahrung in nahezu allen Musikgenres bringen die beiden Musiker ihr
 e Leidenschaft für den Jazz und Evergreens auf die Bühne und bieten Ihnen 
 ein einzigartiges musikalisches Erlebnis.\n\nGeniessen Sie dazu ein Abende
 ssen à la Carte und wählen Sie Ihre Lieblingsgerichte aus unserer Karte. L
 assen Sie sich von der Energie und Vielfalt der Jazzklänge begleiten\, wäh
 rend Sie sich kulinarisch verwöhnen lassen.\n\nReservieren Sie jetzt und l
 assen Sie sich von einem unvergesslichen Jazz-Abend begeistern!\n
DTSTART:20250301T190000
DTEND:20250301T233000
ORGANIZER:MAILTO:Restaurant Schloss Oberhofen <info@restaurant-schlossoberh
 ofen.ch>
SUMMARY:JAZZ-ABEND MIT DEM DUO JAZZ-ENJOY
END:VEVENT
END:VCALENDAR
