BEGIN:VCALENDAR
VERSION:2.0
PRODID:-//Restaurant Schloss Oberhofen//NONSGML kigkonsult.se iCalcreator 2
 .16.12//
METHOD:PUBLISH
X-MS-OLK-FORCEINSPECTOROPEN:TRUE
BEGIN:VEVENT
UID:20260423T183239CEST-0380irTUK9@Restaurant Schloss Oberhofen
DTSTAMP:20260423T163239Z
DESCRIPTION:BELEBT EURE GÄRTEN – LASST UNS GEMEINSAM DEN FRÜHLINGSBEGINN FE
 IERN!\n\n\nHolen Sie sich Ihre Setzlinge\, Dekorationen und Tipps vom Prof
 i vor Ort und geniessen Sie dazu unser kulinarisches Küchen- und Getränkea
 ngebot. \n\nZudem hat jeder Besucher die Chance\, an unserem Wettbewerb su
 per Preise zu gewinnen.\n\nWir freuen uns auf Ihren Besuch!\n
DTSTART:20250323T110000
DTEND:20250323T180000
ORGANIZER:MAILTO:Restaurant Schloss Oberhofen <info@restaurant-schlossoberh
 ofen.ch>
SUMMARY:FRÜHLINGSFEST
END:VEVENT
END:VCALENDAR
