BEGIN:VCALENDAR
VERSION:2.0
PRODID:-//Restaurant Schloss Oberhofen//NONSGML kigkonsult.se iCalcreator 2
 .16.12//
METHOD:PUBLISH
X-MS-OLK-FORCEINSPECTOROPEN:TRUE
BEGIN:VEVENT
UID:20260423T182511CEST-2958bku405@Restaurant Schloss Oberhofen
DTSTAMP:20260423T162511Z
DESCRIPTION:\nFREITAG\, 28. MÄRZ 2025\nUM 19.00 UHR\n\nMIT BODEGAS RESALTE
 \nRibera del Duero\n\nErleben Sie einen genussvollen Abend mit einem exqui
 siten 4-Gang-Menü sowie erlesenen spanischen Weinen von „Rugen Wy - Chälle
 r“ mit Bruno Lonca.\nTauchen Sie ein in ein unvergessliches kulinarisches 
 Erlebnis in bester Gesellschaft.\n\nWINE & DINE Apéro + Menü\ninkl. Wein u
 nd Wasser\nCHF 129.00 p.P.\n\n'WINE NOT?'\n
DTSTART:20250328T190000
DTEND:20250328T233000
ORGANIZER:MAILTO:Restaurant Schloss Oberhofen <info@restaurant-schlossoberh
 ofen.ch>
SUMMARY:WINE & DINE
END:VEVENT
END:VCALENDAR
