BEGIN:VCALENDAR
VERSION:2.0
PRODID:-//Restaurant Schloss Oberhofen//NONSGML kigkonsult.se iCalcreator 2
 .16.12//
METHOD:PUBLISH
X-MS-OLK-FORCEINSPECTOROPEN:TRUE
BEGIN:VEVENT
UID:20260423T170807CEST-4988ASuVoc@Restaurant Schloss Oberhofen
DTSTAMP:20260423T150807Z
DESCRIPTION:Geniessen Sie ein aussergewöhnliches Dinner bei Vollmond – exkl
 usiv bei stimmungsvollem Kerzenlicht im Restaurant Schloss Oberhofen\, dir
 ekt am Thunersee.\n\nGeniessen Sie ein Candle-Light-Dinner der ganz besond
 eren Art!\n\nDie Aussicht könnte nicht grandioser sein: Der Anblick der sc
 hneebedeckten Berge im sanften Mondlicht\, die glitzernenden Lichter am ge
 genüberliegenden Seeufer\, der Blick auf das majestätische Schloss und das
  Mondlicht schimmernd auf dem Thunersee ist einfach atemberaubend – und da
 s während dem ganzen Dinner! \n\nReservieren Sie jetzt Ihren Tisch für die
 ses romantische Highlight.\n\nBei schönem Wetter servieren wird Ihnen den 
 Aperitif gerne auf unserer stimmungsvollen Terrasse!\nPreis: CHF 85.00 pro
  Person (ohne Aperitif)\n\nEin Abend\, der alle Sinne berührt – pure Roman
 tik am Thunersee!\n
DTSTART:20260304T183000
DTEND:20260304T230000
ORGANIZER:MAILTO:Restaurant Schloss Oberhofen <info@restaurant-schlossoberh
 ofen.ch>
SUMMARY:VOLLMOND DINNER – FULL MOON DINNER
END:VEVENT
END:VCALENDAR
