BEGIN:VCALENDAR
VERSION:2.0
PRODID:-//Restaurant Schloss Oberhofen//NONSGML kigkonsult.se iCalcreator 2
 .16.12//
METHOD:PUBLISH
X-MS-OLK-FORCEINSPECTOROPEN:TRUE
BEGIN:VEVENT
UID:20260423T170814CEST-4554IFrK77@Restaurant Schloss Oberhofen
DTSTAMP:20260423T150814Z
DESCRIPTION:JAZZ ABEND mit Moody Rassouli und Kulinarische à LA CARTE Geric
 hten\n\nMoody ist ein musikalisches Naturtalent\, das schon als Kind im 10
 . Lebensjahr das Klavier erfolgreich entdeckt hat. \nMoody kreiert klangfa
 rbige Piano-Arrangements aus dem Fundus von Jazz\, Pop und Folklore. Seine
  musikalische Basis ist und bleibt der Jazz.\nHier spürt man denn auch sei
 ne Vorbilder wie Oscar Peterson\, Errol Garner\, Art Tatum\, Kenny Barron 
 und vor allem Bill Evans.\n\nReservieren Sie jetzt schon Ihren Tisch und g
 eniessen Sie kulinarische Gerichte von unserer à la Carte Karte\, musikali
 sch von Moody Rassoulis Jazz Klängen.\n\n\n
DTSTART:20251127T190000
DTEND:20251127T230000
ORGANIZER:MAILTO:Restaurant Schloss Oberhofen <info@restaurant-schlossoberh
 ofen.ch>
SUMMARY:JAZZ & GENUSS ABEND MIT PIANIST MOODY RASSOULI
END:VEVENT
END:VCALENDAR
